BEGIN:VCALENDAR
VERSION:2.0
PRODID:-//kremlin.ru/Kremlin Calendar//RU
METHOD:PUBLISH
URL:http://kremlin.ru/acts/assignments/items/63454/ical-8.ics
BEGIN:VEVENT
SUMMARY:Пр-907\, п.1е-3
DTSTART;VALUE=DATE:20201001
DTEND;VALUE=DATE:20201002
UID:assignment-6208_8@kremlin.ru
DESCRIPTION:безопасной эксплуатации газорасп
 ределительного\, внутридомового и внутр
 иквартирного газового оборудования и те
 леметрического контроля за поставкой га
 за\;
END:VEVENT
END:VCALENDAR
