BEGIN:VCALENDAR
VERSION:2.0
PRODID:-//kremlin.ru/Kremlin Calendar//RU
METHOD:PUBLISH
URL:http://kremlin.ru/acts/assignments/items/63454/ical-7.ics
BEGIN:VEVENT
SUMMARY:Пр-907\, п.1е-2
DTSTART;VALUE=DATE:20201001
DTEND;VALUE=DATE:20201002
UID:assignment-6207_7@kremlin.ru
DESCRIPTION:интеграции данных топливно-энерг
 етических балансов\, региональных прогр
 амм газификации\, а также информации по р
 аботе с потребителями газа в государств
 енные информационные системы\;
END:VEVENT
END:VCALENDAR
