BEGIN:VCALENDAR
VERSION:2.0
PRODID:-//kremlin.ru/Kremlin Calendar//RU
METHOD:PUBLISH
URL:http://kremlin.ru/acts/assignments/items/63454/ical-6.ics
BEGIN:VEVENT
SUMMARY:Пр-907\, п.1е-1
DTSTART;VALUE=DATE:20201001
DTEND;VALUE=DATE:20201002
UID:assignment-6206_6@kremlin.ru
DESCRIPTION:е) цифровизацию мероприятий по га
 зификации\, в том числе в целях:взаимодей
 ствия органов исполнительной власти все
 х уровней и организаций\, включая аварий
 но-спасательные и диспетчерские службы\,
  а также потребителей газа\;
END:VEVENT
END:VCALENDAR
