BEGIN:VCALENDAR
VERSION:2.0
PRODID:-//kremlin.ru/Kremlin Calendar//RU
METHOD:PUBLISH
URL:http://kremlin.ru/acts/assignments/items/63454/ical-5.ics
BEGIN:VEVENT
SUMMARY:Пр-907\, п.1д
DTSTART;VALUE=DATE:20201001
DTEND;VALUE=DATE:20201002
UID:assignment-6205_5@kremlin.ru
DESCRIPTION:д) поэтапное завершение газификац
 ии к 2024 году и 2030 году с установлением со
 ответствующих целевых показателей на ос
 нове актуализации и утверждения региона
 льных программ\;
END:VEVENT
END:VCALENDAR
