BEGIN:VCALENDAR
VERSION:2.0
PRODID:-//kremlin.ru/Kremlin Calendar//RU
METHOD:PUBLISH
URL:http://kremlin.ru/acts/assignments/items/63454/ical-4.ics
BEGIN:VEVENT
SUMMARY:Пр-907\, п.1г
DTSTART;VALUE=DATE:20201001
DTEND;VALUE=DATE:20201002
UID:assignment-6204_4@kremlin.ru
DESCRIPTION:г) внесение изменений в порядок фо
 рмирования топливно-энергетических бал
 ансов\, предусмотрев прогноз потребност
 и населения в газе (сетевом\, сжиженном у
 глеводородном и природном)\, а также в ал
 ьтернативных источниках энергии\;
END:VEVENT
END:VCALENDAR
