BEGIN:VCALENDAR
VERSION:2.0
PRODID:-//kremlin.ru/Kremlin Calendar//RU
METHOD:PUBLISH
URL:http://kremlin.ru/acts/assignments/items/63454/ical-3.ics
BEGIN:VEVENT
SUMMARY:Пр-907\, п.1в
DTSTART;VALUE=DATE:20201001
DTEND;VALUE=DATE:20201002
UID:assignment-6203_3@kremlin.ru
DESCRIPTION:в) заключение комплексного догово
 ра на поставку газа\, подключение и техни
 ческое обслуживание сопутствующего обо
 рудования с использованием структур «ед
 иного окна» и многофункциональных центр
 ов\, позволяющих выполнять сбор сведений
  от имени заявителя\;
END:VEVENT
END:VCALENDAR
