BEGIN:VCALENDAR
VERSION:2.0
PRODID:-//kremlin.ru/Kremlin Calendar//RU
METHOD:PUBLISH
URL:http://kremlin.ru/acts/assignments/items/63454/ical-2.ics
BEGIN:VEVENT
SUMMARY:Пр-907\, п.1б
DTSTART;VALUE=DATE:20201001
DTEND;VALUE=DATE:20201002
UID:assignment-6202_2@kremlin.ru
DESCRIPTION:б) утверждение обязательных станд
 артов к перечню\, срокам и методам опреде
 ления стоимости выполнения технологиче
 ских работ по подаче газа на газоиспольз
 ующее оборудование («последняя миля»)\, в
  том числе к его минимальному комплекту 
 и обслуживанию\;
END:VEVENT
END:VCALENDAR
