BEGIN:VCALENDAR
VERSION:2.0
PRODID:-//kremlin.ru/Kremlin Calendar//RU
METHOD:PUBLISH
URL:http://kremlin.ru/acts/assignments/items/63438/ical-3.ics
BEGIN:VEVENT
SUMMARY:Пр-891\, п.3
DTSTART;VALUE=DATE:20200530
DTEND;VALUE=DATE:20200531
UID:assignment-6163_3@kremlin.ru
DESCRIPTION:3. Правительству Российской Федер
 ации\, высшим должностным лицам (руковод
 ителям высших исполнительных органов го
 сударственной власти) Республики Крым\, 
 Краснодарского края\, Ставропольского к
 рая\, Московской области\, Тульской облас
 ти принять меры по созданию условий для 
 полноценного функционирования федераль
 ных государственных бюджетных учрежден
 ий\, на базах которых осуществляется под
 готовка спортивных сборных команд Росси
 йской Федерации.Срок – 30 мая 2020 г.Ответс
 твенные: Мишустин М.В.\, Аксёнов С.В.\, Конд
 ратьев В.И.\, Владимиров В.В.\, Воробьёв А.Ю
 .\, Дюмин А.Г.
END:VEVENT
END:VCALENDAR
