BEGIN:VCALENDAR
VERSION:2.0
PRODID:-//kremlin.ru/Kremlin Calendar//RU
METHOD:PUBLISH
URL:http://kremlin.ru/acts/assignments/items/63433/ical-27.ics
BEGIN:VEVENT
SUMMARY:Пр-890\, п.2б-6
DTSTART;VALUE=DATE:20200701
DTEND;VALUE=DATE:20200702
UID:assignment-6191_27@kremlin.ru
DESCRIPTION:о мерах финансовой поддержки за с
 чёт средств федерального бюджета автотр
 анспортных предприятий\, предоставляемо
 й для компенсации части лизинговых плат
 ежей по договорам лизинга грузовых авто
 транспортных средств\, а также лизинговы
 х компаний\, предоставивших таким предпр
 иятиям отсрочку по уплате лизинговых пл
 атежей по указанным договорам\;
END:VEVENT
END:VCALENDAR
