BEGIN:VCALENDAR
VERSION:2.0
PRODID:-//kremlin.ru/Kremlin Calendar//RU
METHOD:PUBLISH
URL:http://kremlin.ru/acts/assignments/items/63433/ical-26.ics
BEGIN:VEVENT
SUMMARY:Пр-890\, п.2б-5
DTSTART;VALUE=DATE:20200701
DTEND;VALUE=DATE:20200702
UID:assignment-6190_26@kremlin.ru
DESCRIPTION:о необходимости докапитализации 
 лизинговых компаний с государственным у
 частием\, осуществляющих деятельность в 
 сфере судостроения\, за счёт средств фед
 ерального бюджета в целях снижения плат
 ежей в отношении судов\, построенных рос
 сийскими судостроительными организация
 ми\, а также установления фиксированного
  размера этих платежей\;
END:VEVENT
END:VCALENDAR
