BEGIN:VCALENDAR
VERSION:2.0
PRODID:-//kremlin.ru/Kremlin Calendar//RU
METHOD:PUBLISH
URL:http://kremlin.ru/acts/assignments/items/63433/ical-25.ics
BEGIN:VEVENT
SUMMARY:Пр-890\, п.2б-4
DTSTART;VALUE=DATE:20200701
DTEND;VALUE=DATE:20200702
UID:assignment-6189_25@kremlin.ru
DESCRIPTION:о возмещении в 2020 и 2021 годах налог
 оплательщикам акциза на бункерное топли
 во\, предназначенное для заправки водных
  судов\, непосредственно после его приоб
 ретения (при условии предоставления бан
 ковской гарантии)\;
END:VEVENT
END:VCALENDAR
