BEGIN:VCALENDAR
VERSION:2.0
PRODID:-//kremlin.ru/Kremlin Calendar//RU
METHOD:PUBLISH
URL:http://kremlin.ru/acts/assignments/items/63433/ical-24.ics
BEGIN:VEVENT
SUMMARY:Пр-890\, п.2б-3
DTSTART;VALUE=DATE:20200701
DTEND;VALUE=DATE:20200702
UID:assignment-6188_24@kremlin.ru
DESCRIPTION:о выделении из федерального бюдже
 та бюджетных ассигнований в объёме 5\,8 мл
 рд. рублей на компенсацию лизинговым ком
 паниям части недополученных ими доходов
  в связи с предоставлением отсрочки по у
 плате лизинговых платежей\;
END:VEVENT
END:VCALENDAR
