BEGIN:VCALENDAR
VERSION:2.0
PRODID:-//kremlin.ru/Kremlin Calendar//RU
METHOD:PUBLISH
URL:http://kremlin.ru/acts/assignments/items/63433/ical-23.ics
BEGIN:VEVENT
SUMMARY:Пр-890\, п.2б-2
DTSTART;VALUE=DATE:20200701
DTEND;VALUE=DATE:20200702
UID:assignment-6187_23@kremlin.ru
DESCRIPTION:о предоставлении лизинговыми ком
 паниями до 31 декабря 2020 г. отсрочки по уп
 лате лизинговых платежей по договорам л
 изинга автобусов\, трамваев и троллейбус
 ов с одновременным предоставлением таки
 м компаниям отсрочки по уплате суммы осн
 овного долга и начисленных процентов по 
 кредитным договорам\, заключённым с росс
 ийскими кредитными организациями\;
END:VEVENT
END:VCALENDAR
