BEGIN:VCALENDAR
VERSION:2.0
PRODID:-//kremlin.ru/Kremlin Calendar//RU
METHOD:PUBLISH
URL:http://kremlin.ru/acts/assignments/items/63433/ical-22.ics
BEGIN:VEVENT
SUMMARY:Пр-890\, п.2б-1
DTSTART;VALUE=DATE:20200701
DTEND;VALUE=DATE:20200702
UID:assignment-6186_22@kremlin.ru
DESCRIPTION:б) представить предложения:о прод
 лении срока действия мер государственно
 й поддержки ранее заключённых лизинговы
 х сделок\, предметом которых являются мо
 рские и речные суда\, построенные на росс
 ийских верфях\, в том числе предусматрив
 ающих компенсацию части лизинговых плат
 ежей\;
END:VEVENT
END:VCALENDAR
