BEGIN:VCALENDAR
VERSION:2.0
PRODID:-//kremlin.ru/Kremlin Calendar//RU
METHOD:PUBLISH
URL:http://kremlin.ru/acts/assignments/items/63386/ical-7.ics
BEGIN:VEVENT
SUMMARY:Пр-837\, п.1 а)-8
DTSTART;VALUE=DATE:20200615
DTEND;VALUE=DATE:20200616
UID:assignment-6151_7@kremlin.ru
DESCRIPTION:субсидирование процентных ставок
  по кредитам на обеспечение оборотных ср
 едств для субъектов тепло- и электроэнер
 гетики\;
END:VEVENT
END:VCALENDAR
