BEGIN:VCALENDAR
VERSION:2.0
PRODID:-//kremlin.ru/Kremlin Calendar//RU
METHOD:PUBLISH
URL:http://kremlin.ru/acts/assignments/items/63386/ical-13.ics
BEGIN:VEVENT
SUMMARY:Пр-837\, п.1 б)-6
DTSTART;VALUE=DATE:20200615
DTEND;VALUE=DATE:20200616
UID:assignment-6157_13@kremlin.ru
DESCRIPTION:установления специальных тарифов
  публичного акционерного общества «Тран
 снефть» и открытого акционерного общест
 ва «Российские железные дороги» на тран
 спортировку нефти и нефтепродуктов на с
 рок действия договоренности об ограниче
 нии добычи нефти между государствами\, в
 ходящими в Организацию стран – экспорте
 ров нефти (ОПЕК)\, и государствами\, не вхо
 дящими в эту Организацию.Срок – 15 июня 202
 0 г.Ответственный: Мишустин М.В.\;
END:VEVENT
END:VCALENDAR
