BEGIN:VCALENDAR
VERSION:2.0
PRODID:-//kremlin.ru/Kremlin Calendar//RU
METHOD:PUBLISH
URL:http://kremlin.ru/acts/assignments/items/63386/ical-12.ics
BEGIN:VEVENT
SUMMARY:Пр-837\, п.1 б)-5
DTSTART;VALUE=DATE:20200615
DTEND;VALUE=DATE:20200616
UID:assignment-6156_12@kremlin.ru
DESCRIPTION:временного неприменения штрафных
  санкций за недопоставку мощности на опт
 овый рынок поставщиками электрической э
 нергии ввиду неготовности генерирующег
 о оборудования из-за отсутствия комплек
 тующих\;
END:VEVENT
END:VCALENDAR
