BEGIN:VCALENDAR
VERSION:2.0
PRODID:-//kremlin.ru/Kremlin Calendar//RU
METHOD:PUBLISH
URL:http://kremlin.ru/acts/assignments/items/63386/ical-11.ics
BEGIN:VEVENT
SUMMARY:Пр-837\, п.1 б)-4
DTSTART;VALUE=DATE:20200615
DTEND;VALUE=DATE:20200616
UID:assignment-6155_11@kremlin.ru
DESCRIPTION:временного неприменения штрафных
  санкций за неисполнение регулируемыми 
 организациями – субъектами электроэнер
 гетики инвестиционных программ в 2020–2021 
 годах\;
END:VEVENT
END:VCALENDAR
