BEGIN:VCALENDAR
VERSION:2.0
PRODID:-//kremlin.ru/Kremlin Calendar//RU
METHOD:PUBLISH
URL:http://kremlin.ru/acts/assignments/items/63343/ical-14.ics
BEGIN:VEVENT
SUMMARY:Пр-794\, п.6
DTSTART;VALUE=DATE:20201201
DTEND;VALUE=DATE:20201202
UID:assignment-6084_14@kremlin.ru
DESCRIPTION:6. Минспорту России поддержать ини
 циативу\, направленную на реализацию про
 екта по выявлению сильнейшей нации в мир
 е.Доклад – до 1 декабря 2020 г.Ответственны
 й: Матыцин О.В.
END:VEVENT
END:VCALENDAR
