BEGIN:VCALENDAR
VERSION:2.0
PRODID:-//kremlin.ru/Kremlin Calendar//RU
METHOD:PUBLISH
URL:http://kremlin.ru/acts/assignments/items/63337/ical-9.ics
BEGIN:VEVENT
SUMMARY:Пр-791\, п.3 б)
DTSTART;VALUE=DATE:20200601
DTEND;VALUE=DATE:20200602
UID:assignment-6098_9@kremlin.ru
DESCRIPTION:б) реализовать меры дополнительно
 й поддержки государственных и негосудар
 ственных стационарных организаций соци
 ального обслуживания и их сотрудников\;
END:VEVENT
END:VCALENDAR
