BEGIN:VCALENDAR
VERSION:2.0
PRODID:-//kremlin.ru/Kremlin Calendar//RU
METHOD:PUBLISH
URL:http://kremlin.ru/acts/assignments/items/63337/ical-8.ics
BEGIN:VEVENT
SUMMARY:Пр-791\, п.3 а)
DTSTART;VALUE=DATE:20200601
DTEND;VALUE=DATE:20200602
UID:assignment-6097_8@kremlin.ru
DESCRIPTION:3. Рекомендовать высшим должностн
 ым лицам (руководителям высших исполнит
 ельных органов государственной власти) 
 субъектов Российской Федерации\, главам 
 муниципальных образований (главам местн
 ых администраций муниципальных образов
 аний):а) разработать и реализовать налог
 овые\, имущественные и иные меры поддерж
 ки социально ориентированных некоммерч
 еских организаций\, указанных в пункте 1 
 настоящего перечня поручений\;
END:VEVENT
END:VCALENDAR
