BEGIN:VCALENDAR
VERSION:2.0
PRODID:-//kremlin.ru/Kremlin Calendar//RU
METHOD:PUBLISH
URL:http://kremlin.ru/acts/assignments/items/63337/ical-10.ics
BEGIN:VEVENT
SUMMARY:Пр-791\, п.3 в)
DTSTART;VALUE=DATE:20200601
DTEND;VALUE=DATE:20200602
UID:assignment-6099_10@kremlin.ru
DESCRIPTION:в) предусмотреть отсрочку оплаты 
 аренды недвижимого имущества\, находяще
 гося соответственно в собственности суб
 ъектов Российской Федерации и муниципал
 ьной собственности\;
END:VEVENT
END:VCALENDAR
