BEGIN:VCALENDAR
VERSION:2.0
PRODID:-//kremlin.ru/Kremlin Calendar//RU
METHOD:PUBLISH
URL:http://kremlin.ru/acts/assignments/items/63324/ical-12.ics
BEGIN:VEVENT
SUMMARY:Пр-742\, п.1 г)
DTSTART;VALUE=DATE:20200515
DTEND;VALUE=DATE:20200516
UID:assignment-6048_12@kremlin.ru
DESCRIPTION:г) с участием руководителей высши
 х исполнительных органов государственн
 ой власти субъектов Российской Федераци
 и принять меры\, касающиеся функциониров
 ания организаций розничной торговли авт
 отранспортными средствами\, а также пред
 приятий\, обеспечивающих производство и 
 поставку комплектующих изделий\, сырья и
  материалов\, необходимых для производст
 ва автомобильной техники\, при условии п
 роведения данными компаниями в период в
 ведения мер по противодействию распрост
 ранению новой коронавирусной инфекции м
 ероприятий\, направленных на обеспечени
 е безопасности труда и защиты здоровья р
 аботающих граждан.Доклад – до 15 мая 2020 г.
 Ответственный: Мишустин М.В.
END:VEVENT
END:VCALENDAR
