BEGIN:VCALENDAR
VERSION:2.0
PRODID:-//kremlin.ru/Kremlin Calendar//RU
METHOD:PUBLISH
URL:http://kremlin.ru/acts/assignments/items/63278/ical-2.ics
BEGIN:VEVENT
SUMMARY:Пр-705\, п.2а-1
DTSTART;VALUE=DATE:20201001
DTEND;VALUE=DATE:20201002
UID:assignment-6016_2@kremlin.ru
DESCRIPTION:2. Правительству Российской Федер
 ации совместно с Правительством Ивановс
 кой области:а) представить предложения о
  строительстве в г.Иваново:Дворца водных
  видов спорта\;
END:VEVENT
END:VCALENDAR
