BEGIN:VCALENDAR
VERSION:2.0
PRODID:-//kremlin.ru/Kremlin Calendar//RU
METHOD:PUBLISH
URL:http://kremlin.ru/acts/assignments/items/63196/ical-9.ics
BEGIN:VEVENT
SUMMARY:Пр-647\, п.1 и)
DTSTART;VALUE=DATE:20201001
DTEND;VALUE=DATE:20201002
UID:assignment-5912_9@kremlin.ru
DESCRIPTION:и) рассмотреть совместно с органа
 ми исполнительной власти субъектов Росс
 ийской Федерации вопрос об установлении
  дополнительных мер материального стиму
 лирования мастеров производственного о
 бучения и представить соответствующие п
 редложения.Срок – 1 октября 2020 г.Ответст
 венные: Мишустин М.В.\, высшие должностны
 е лица (руководители высших исполнитель
 ных органов государственной власти) суб
 ъектов Российской Федерации\;
END:VEVENT
END:VCALENDAR
