BEGIN:VCALENDAR
VERSION:2.0
PRODID:-//kremlin.ru/Kremlin Calendar//RU
METHOD:PUBLISH
URL:http://kremlin.ru/acts/assignments/items/63196/ical-7.ics
BEGIN:VEVENT
SUMMARY:Пр-647\, п. 1 ж)
DTSTART;VALUE=DATE:20210501
DTEND;VALUE=DATE:20210502
UID:assignment-5910_7@kremlin.ru
DESCRIPTION:ж) обеспечить внесение в законода
 тельство Российской Федерации изменени
 й\, направленных на предоставление детям
 -сиротам\, детям\, оставшимся без попечен
 ия родителей\, лицам из числа детей-сирот
  и детей\, оставшихся без попечения родит
 елей\, с ограниченными возможностями здо
 ровья (в том числе с различными формами у
 мственной отсталости) дополнительных ме
 р государственной поддержки в сфере обр
 азования\, предусмотрев при этом возможн
 ость их бесплатного повторного професси
 онального обучения по программам профес
 сиональной подготовки по профессиям раб
 очих\, должностям служащих по очной форм
 е обучения\, выплату им во время прохожде
 ния такого обучения стипендии и пособия 
 на приобретение учебной литературы и пи
 сьменных принадлежностей за счёт средст
 в соответствующих бюджетов бюджетной си
 стемы Российской Федерации.Доклад – до 1
  декабря 2020 г. и до 1 мая 2021 г.\;
END:VEVENT
END:VCALENDAR
