BEGIN:VCALENDAR
VERSION:2.0
PRODID:-//kremlin.ru/Kremlin Calendar//RU
METHOD:PUBLISH
URL:http://kremlin.ru/acts/assignments/items/63182/ical-29.ics
BEGIN:VEVENT
SUMMARY:Пр-639\, п.8
DTSTART;VALUE=DATE:20200415
DTEND;VALUE=DATE:20200416
UID:assignment-5952_29@kremlin.ru
DESCRIPTION:8. Минэкономразвития России совме
 стно с заинтересованными федеральными о
 рганами исполнительной власти обеспечи
 ть методологическую поддержку деятельн
 ости органов исполнительной власти субъ
 ектов Российской Федерации по реализаци
 и мероприятий\, предусмотренных пунктом 
 10 настоящего перечня поручений\, обратив
  особое внимание на необходимость синхр
 онизации решений\, принимаемых на всех у
 ровнях власти\, с учётом межрегиональной
  координации.Доклад – до 15 апреля 2020 г.\, 
 далее – ежемесячно.Ответственный: Решет
 ников М.Г.
END:VEVENT
END:VCALENDAR
