BEGIN:VCALENDAR
VERSION:2.0
PRODID:-//kremlin.ru/Kremlin Calendar//RU
METHOD:PUBLISH
URL:http://kremlin.ru/acts/assignments/items/63182/ical-22.ics
BEGIN:VEVENT
SUMMARY:Пр-639\, п.5 б)
DTSTART;VALUE=DATE:20200415
DTEND;VALUE=DATE:20200416
UID:assignment-5945_22@kremlin.ru
DESCRIPTION:б) организовать работу по привлеч
 ению медицинскими организациями профес
 сорско-преподавательского состава\, асп
 ирантов\, ординаторов\, докторантов\, сту
 дентов медицинских образовательных орг
 анизаций высшего и среднего профессиона
 льного образования и научных организаци
 й к оказанию медицинской помощи больным 
 новой коронавирусной инфекцией (COVID-19)\, п
 редусмотрев предоставление им компенса
 ции за работу с вредными и (или) опасными 
 условиями труда.Доклад – до 15 апреля 2020 
 г.\, далее – еженедельно.Ответственные: М
 урашко М.А.\, высшие должностные лица (рук
 оводители высших исполнительных органо
 в государственной власти) субъектов Рос
 сийской Федерации.
END:VEVENT
END:VCALENDAR
