BEGIN:VCALENDAR
VERSION:2.0
PRODID:-//kremlin.ru/Kremlin Calendar//RU
METHOD:PUBLISH
URL:http://kremlin.ru/acts/assignments/items/63182/ical-18.ics
BEGIN:VEVENT
SUMMARY:Пр-639\, п.4 г)
DTSTART;VALUE=DATE:20200420
DTEND;VALUE=DATE:20200421
UID:assignment-5941_18@kremlin.ru
DESCRIPTION:г) обеспечить организацию обучени
 я врачей оказанию медицинской помощи с и
 спользованием аппаратов искусственной 
 вентиляции лёгких\, наркозно-дыхательны
 х аппаратов\, аппаратов для неинвазивной
  вентиляции лёгких и аппаратов экстрако
 рпоральной мембранной оксигенации\;
END:VEVENT
END:VCALENDAR
