BEGIN:VCALENDAR
VERSION:2.0
PRODID:-//kremlin.ru/Kremlin Calendar//RU
METHOD:PUBLISH
URL:http://kremlin.ru/acts/assignments/items/63182/ical-17.ics
BEGIN:VEVENT
SUMMARY:Пр-639\, п.4 в)
DTSTART;VALUE=DATE:20200420
DTEND;VALUE=DATE:20200421
UID:assignment-5940_17@kremlin.ru
DESCRIPTION:в) принять меры по укомплектовани
 ю медицинских организаций\, в том числе о
 казывающих первичную медико-санитарную 
 помощь\, скорую медицинскую помощь и спе
 циализированную медицинскую помощь\, ме
 дицинским персоналом. Предусмотреть при
  необходимости перепрофилирование врач
 ей других специальностей\, привлечение в
 рачей и среднего медицинского персонала
  из иных медицинских организаций\, привл
 ечение профессорско-преподавательского
  состава\, аспирантов\, ординаторов\, докт
 орантов\, студентов медицинских образов
 ательных организаций высшего и среднего
  профессионального образования и научны
 х организаций\, специалистов в области и
 нформационно­-коммуникационных техноло
 гий\;
END:VEVENT
END:VCALENDAR
