BEGIN:VCALENDAR
VERSION:2.0
PRODID:-//kremlin.ru/Kremlin Calendar//RU
METHOD:PUBLISH
URL:http://kremlin.ru/acts/assignments/items/63144/ical-5.ics
BEGIN:VEVENT
SUMMARY:Пр-619\, п.2 а)
DTSTART;VALUE=DATE:20200601
DTEND;VALUE=DATE:20200602
UID:assignment-5882_5@kremlin.ru
DESCRIPTION:2. Правительству Российской Федер
 ации совместно с органами исполнительно
 й власти субъектов Российской Федерации
 :а) проработать вопрос об установлении к 
 2024 году во всех субъектах Российской Фед
 ерации ежемесячных денежных выплат мало
 обеспеченным семьям при рождении третье
 го ребёнка и последующих детей до достиж
 ения ребёнком возраста трёх лет\;
END:VEVENT
END:VCALENDAR
