BEGIN:VCALENDAR
VERSION:2.0
PRODID:-//kremlin.ru/Kremlin Calendar//RU
METHOD:PUBLISH
URL:http://kremlin.ru/acts/assignments/items/63144/ical-12.ics
BEGIN:VEVENT
SUMMARY:Пр-619\, п.4 д)
DTSTART;VALUE=DATE:20200701
DTEND;VALUE=DATE:20200702
UID:assignment-5889_12@kremlin.ru
DESCRIPTION:д) совместно с органами местного с
 амоуправления предусматривать в регион
 альных и муниципальных программах разви
 тия учреждений культуры поддержку добро
 вольческих (волонтёрских) и некоммерчес
 ких организаций в целях стимулирования 
 их работы\, в том числе по реализации соц
 иокультурных проектов\, в сельской местн
 ости.Доклад – до 1 июля 2020 г.
END:VEVENT
END:VCALENDAR
