BEGIN:VCALENDAR
VERSION:2.0
PRODID:-//kremlin.ru/Kremlin Calendar//RU
METHOD:PUBLISH
URL:http://kremlin.ru/acts/assignments/items/63083/ical-18.ics
BEGIN:VEVENT
SUMMARY:Пр-589\, п.1ж-4
DTSTART;VALUE=DATE:20201030
DTEND;VALUE=DATE:20201031
UID:assignment-5832_18@kremlin.ru
DESCRIPTION:обеспечить привлечение специалис
 тов-практиков к преподавательской работ
 е в профессиональных образовательных ор
 ганизациях и образовательных организац
 иях высшего образования\, в том числе по 
 совместительству\, без предъявления к ни
 м требований о наличии учёной степени\, у
 чёного звания\, иных требований\, касающи
 хся наукометрических показателей.Докла
 д – до 30 октября 2020 г.\;
END:VEVENT
END:VCALENDAR
