BEGIN:VCALENDAR
VERSION:2.0
PRODID:-//kremlin.ru/Kremlin Calendar//RU
METHOD:PUBLISH
URL:http://kremlin.ru/acts/assignments/items/62942/ical-7.ics
BEGIN:VEVENT
SUMMARY:Пр-434\, п.1 г)
DTSTART;VALUE=DATE:20200515
DTEND;VALUE=DATE:20200516
UID:assignment-5769_7@kremlin.ru
DESCRIPTION:г) провести совместно с органами и
 сполнительной власти субъектов Российс
 кой Федерации при участии Общественной 
 палаты Российской Федерации анализ прак
 тики оказания поддержки начинающим пред
 принимателям\, проживающим в сельской ме
 стности\, и представить предложения по с
 озданию на базе информационно-консульта
 ционных центров и центров компетенций в 
 сфере сельскохозяйственной кооперации 
 и поддержки фермеров системы организаци
 онной и консультативной помощи начинающ
 им предпринимателям\, проживающим в сель
 ской местности\, по принципу «одного окн
 а» (по аналогии с многофункциональными ц
 ентрами предоставления государственных
  и муниципальных услуг).Срок – 15 мая 2020 г.
 Ответственные: Мишустин М.В.\, высшие дол
 жностные лица (руководители высших испо
 лнительных органов государственной вла
 сти) субъектов Российской Федерации\;
END:VEVENT
END:VCALENDAR
