BEGIN:VCALENDAR
VERSION:2.0
PRODID:-//kremlin.ru/Kremlin Calendar//RU
METHOD:PUBLISH
URL:http://kremlin.ru/acts/assignments/items/62942/ical-4.ics
BEGIN:VEVENT
SUMMARY:Пр-434\, п.1 в)-3
DTSTART;VALUE=DATE:20200430
DTEND;VALUE=DATE:20200501
UID:assignment-5766_4@kremlin.ru
DESCRIPTION:по предоставлению субъектам мало
 го и среднего предпринимательства\, явля
 ющимся сельскохозяйственными товаропро
 изводителями\, права на применение налог
 овой ставки по налогу на прибыль организ
 аций в размере 0 процентов в отношении де
 ятельности\, связанной с реализацией так
 ими субъектами малого и среднего предпр
 инимательства продукции\, переработанно
 й третьими лицами на давальческой основ
 е\, определив при необходимости перечень
  требований к таким субъектам малого и с
 реднего предпринимательства\;
END:VEVENT
END:VCALENDAR
