BEGIN:VCALENDAR
VERSION:2.0
PRODID:-//kremlin.ru/Kremlin Calendar//RU
METHOD:PUBLISH
URL:http://kremlin.ru/acts/assignments/items/62942/ical-3.ics
BEGIN:VEVENT
SUMMARY:Пр-434\, п.1 в)-2
DTSTART;VALUE=DATE:20200430
DTEND;VALUE=DATE:20200501
UID:assignment-5765_3@kremlin.ru
DESCRIPTION:о внесении в законодательство Рос
 сийской Федерации в области семеноводст
 ва и в области карантина растений измене
 ний\, направленных на обеспечение прав с
 ельскохозяйственных товаропроизводите
 лей\;
END:VEVENT
END:VCALENDAR
