BEGIN:VCALENDAR
VERSION:2.0
PRODID:-//kremlin.ru/Kremlin Calendar//RU
METHOD:PUBLISH
URL:http://kremlin.ru/acts/assignments/items/62942/ical-1.ics
BEGIN:VEVENT
SUMMARY:Пр-434\, п.1 б)
DTSTART;VALUE=DATE:20200801
DTEND;VALUE=DATE:20200802
UID:assignment-5763_1@kremlin.ru
DESCRIPTION:б) принять меры по усилению госуда
 рственного карантинного фитосанитарног
 о контроля (надзора) за оборотом подкара
 нтинной продукции\, осуществляемого в пу
 нктах пропуска через государственную гр
 аницу Российской Федерации с Республико
 й Казахстан\, в том числе путём обеспечен
 ия прослеживаемости этой продукции.Докл
 ад – до 1 августа 2020 г.\;
END:VEVENT
END:VCALENDAR
