BEGIN:VCALENDAR
VERSION:2.0
PRODID:-//kremlin.ru/Kremlin Calendar//RU
METHOD:PUBLISH
URL:http://kremlin.ru/acts/assignments/items/62942/ical-0.ics
BEGIN:VEVENT
SUMMARY:Пр-434\, п.1 а)
DTSTART;VALUE=DATE:20200410
DTEND;VALUE=DATE:20200411
UID:assignment-5762_0@kremlin.ru
DESCRIPTION:1. Правительству Российской Федер
 ации:а) рассмотреть вопрос о необходимос
 ти предоставления государственной подд
 ержки сельскохозяйственным товаропроиз
 водителям\, осуществляющим деятельность
  по разведению улиток.Доклад – до 10 апре
 ля 2020 г.\;
END:VEVENT
END:VCALENDAR
