BEGIN:VCALENDAR
VERSION:2.0
PRODID:-//kremlin.ru/Kremlin Calendar//RU
METHOD:PUBLISH
URL:http://kremlin.ru/acts/assignments/items/62919/ical-45.ics
BEGIN:VEVENT
SUMMARY:Пр-354\, п.12 4)
DTSTART;VALUE=DATE:20200701
DTEND;VALUE=DATE:20200702
UID:assignment-5735_45@kremlin.ru
DESCRIPTION:4) обеспечить широкое информацион
 ное сопровождение реализации в муниципа
 льных образованиях мероприятий\, предус
 мотренных региональными проектами и нап
 равленных на достижение целей\, показате
 лей федеральных проектов\, входящих в со
 став национальных проектов\, и результат
 ов реализации таких федеральных проекто
 в\, в том числе содействовать освещению р
 езультатов реализации региональных про
 ектов в муниципальных средствах массово
 й информации.Доклад – до 1 июля 2020 г.\;
END:VEVENT
END:VCALENDAR
