BEGIN:VCALENDAR
VERSION:2.0
PRODID:-//kremlin.ru/Kremlin Calendar//RU
METHOD:PUBLISH
URL:http://kremlin.ru/acts/assignments/items/62919/ical-43.ics
BEGIN:VEVENT
SUMMARY:Пр-354\, п.12 2)-2
DTSTART;VALUE=DATE:20200601
DTEND;VALUE=DATE:20200602
UID:assignment-5733_43@kremlin.ru
DESCRIPTION:возможность участия представител
 ей органов местного самоуправления\, тер
 риториальных органов федеральных орган
 ов исполнительной власти\, субъектов ест
 ественных монополий\, ресурсоснабжающих
  организаций\, территориальных сетевых о
 рганизаций\, контролирующих и правоохра
 нительных органов (при необходимости) в 
 работе координационных органов (штабов)\
 , созданных на региональном и муниципаль
 ном уровнях\, по вопросам реализации мер
 оприятий\, направленных на достижение це
 лей\, показателей национальных проектов\
 , государственных и муниципальных прогр
 амм и результатов их реализации.Доклад 
 – до 1 июня 2020 г.\;
END:VEVENT
END:VCALENDAR
