BEGIN:VCALENDAR
VERSION:2.0
PRODID:-//kremlin.ru/Kremlin Calendar//RU
METHOD:PUBLISH
URL:http://kremlin.ru/acts/assignments/items/62919/ical-19.ics
BEGIN:VEVENT
SUMMARY:Пр-354\, п.1 15)
DTSTART;VALUE=DATE:20201001
DTEND;VALUE=DATE:20201002
UID:assignment-5711_19@kremlin.ru
DESCRIPTION:15) обеспечить создание условий дл
 я реализации мероприятий\, имеющих приор
 итетное значение для жителей муниципаль
 ного образования и определяемых с учёто
 м их мнения (путём проведения открытого 
 голосования или конкурсного отбора)\, и в
 озможность направления на осуществлени
 е этих мероприятий по истечении трёх лет
  не менее пяти процентов расходов местно
 го бюджета\, в первую очередь по таким на
 правлениям\, как благоустройство городс
 кой среды\, проведение культурных и спор
 тивных мероприятий\, обустройство объек
 тов социальной инфраструктуры и прилега
 ющих к ним территорий. При этом предусмо
 треть внесение в законодательство Росси
 йской Федерации изменений\, направленны
 х на установление правовых основ инициа
 тивного бюджетирования («народный бюдже
 т») как дополнительного механизма решен
 ия приоритетных для жителей муниципальн
 ого образования (его части) вопросов мес
 тного значения или иных вопросов\, право 
 решения которых предоставлено органам м
 естного самоуправления\, включая опреде
 ление источников финансового обеспечен
 ия реализации инициативных проектов. Об
 еспечить возможность финансирования ук
 азанных проектов за счёт средств бюджет
 ов бюджетной системы Российской Федерац
 ии\, а также за счёт средств юридических 
 лиц\, индивидуальных предпринимателей и 
 личных средств граждан.Срок – 1 октября 2
 020 г.\;
END:VEVENT
END:VCALENDAR
