BEGIN:VCALENDAR
VERSION:2.0
PRODID:-//kremlin.ru/Kremlin Calendar//RU
METHOD:PUBLISH
URL:http://kremlin.ru/acts/assignments/items/62785/ical-11.ics
BEGIN:VEVENT
SUMMARY:Пр-234ГС\, п.1 г)
DTSTART;VALUE=DATE:20200715
DTEND;VALUE=DATE:20200716
UID:assignment-5688_11@kremlin.ru
DESCRIPTION:г) с учётом ранее данных поручений
  предусмотреть выделение из федеральног
 о бюджета бюджетных ассигнований на пре
 доставление субсидий производителям се
 льскохозяйственной техники на возмещен
 ие недополученных доходов в связи с реал
 изацией сельскохозяйственной техники и
 сходя из фактического количества такой 
 техники\, реализованной ими сельскохозя
 йственным товаропроизводителям.Доклад 
 – до 15 июля 2020 г.\;
END:VEVENT
END:VCALENDAR
