BEGIN:VCALENDAR
VERSION:2.0
PRODID:-//kremlin.ru/Kremlin Calendar//RU
METHOD:PUBLISH
URL:http://kremlin.ru/acts/assignments/items/62785/ical-0.ics
BEGIN:VEVENT
SUMMARY:Пр-234ГС\, п.1 а-1
DTSTART;VALUE=DATE:20200715
DTEND;VALUE=DATE:20200716
UID:assignment-5678_0@kremlin.ru
DESCRIPTION:1. Правительству Российской Федер
 ации:а) обеспечить:внесение в законодате
 льство Российской Федерации изменений\, 
 предусматривающих совершенствование по
 рядка вовлечения в оборот долей в праве 
 общей собственности на земельные участк
 и из земель сельскохозяйственного назна
 чения\, в том числе невостребованных\;под
 готовку проекта федерального закона о с
 ельскохозяйственной продукции\, сырье и 
 продовольствии с улучшенными экологиче
 скими характеристиками и принятие таког
 о закона.Доклад – до 15 июля 2020 г.\, далее 
 – один раз в полгода\;
END:VEVENT
END:VCALENDAR
