BEGIN:VCALENDAR
VERSION:2.0
PRODID:-//kremlin.ru/Kremlin Calendar//RU
METHOD:PUBLISH
URL:http://kremlin.ru/acts/assignments/items/62737/ical-7.ics
BEGIN:VEVENT
SUMMARY:Пр-191\, п.1 б)-5
DTSTART;VALUE=DATE:20200331
DTEND;VALUE=DATE:20200401
UID:assignment-5653_7@kremlin.ru
DESCRIPTION:по благоустройству территорий об
 щего пользования.Доклад – до 31 марта 2020 
 г.\, далее – ежеквартально. Ответственны
 й: Мишустин М.В.
END:VEVENT
END:VCALENDAR
