BEGIN:VCALENDAR
VERSION:2.0
PRODID:-//kremlin.ru/Kremlin Calendar//RU
METHOD:PUBLISH
URL:http://kremlin.ru/acts/assignments/items/62737/ical-6.ics
BEGIN:VEVENT
SUMMARY:Пр-191\, п.1 б)-4
DTSTART;VALUE=DATE:20200331
DTEND;VALUE=DATE:20200401
UID:assignment-5652_6@kremlin.ru
DESCRIPTION:по реконструкции и капитальному р
 емонту объектов капитального строитель
 ства\, относящихся к железнодорожным ста
 нциям и пассажирским платформам\;
END:VEVENT
END:VCALENDAR
