BEGIN:VCALENDAR
VERSION:2.0
PRODID:-//kremlin.ru/Kremlin Calendar//RU
METHOD:PUBLISH
URL:http://kremlin.ru/acts/assignments/items/62673/ical-30.ics
BEGIN:VEVENT
SUMMARY:Пр-113\, п.4 к)
DTSTART;VALUE=DATE:20200420
DTEND;VALUE=DATE:20200421
UID:assignment-5626_30@kremlin.ru
DESCRIPTION:к) обеспечить создание комплекса 
 архивных документов\, кино- и фотоматери
 алов\, посвящённых Второй мировой войне.
 Доклад – до 20 апреля 2020 г.\, далее – один 
 раз в полгода\;
END:VEVENT
END:VCALENDAR
