BEGIN:VCALENDAR
VERSION:2.0
PRODID:-//kremlin.ru/Kremlin Calendar//RU
METHOD:PUBLISH
URL:http://kremlin.ru/acts/assignments/items/62673/ical-18.ics
BEGIN:VEVENT
SUMMARY:Пр-113\, п.3
DTSTART;VALUE=DATE:20200430
DTEND;VALUE=DATE:20200501
UID:assignment-5614_18@kremlin.ru
DESCRIPTION:3. Рекомендовать Государственной 
 Думе Федерального Собрания Российской Ф
 едерации совместно с Правительством Рос
 сийской Федерации и при участии ведущих 
 общественных объединений предпринимате
 лей обеспечить принятие федеральных зак
 онов\, направленных на формирование меха
 низмов защиты и поощрения капиталовложе
 ний\, развитие инвестиционной деятельно
 сти в Российской Федерации.Срок – 30 апре
 ля 2020 г.Ответственные: Володин В.В.\, Мишу
 стин М.В.
END:VEVENT
END:VCALENDAR
