BEGIN:VCALENDAR
VERSION:2.0
PRODID:-//kremlin.ru/Kremlin Calendar//RU
METHOD:PUBLISH
URL:http://kremlin.ru/acts/assignments/items/62673/ical-10.ics
BEGIN:VEVENT
SUMMARY:Пр-113\, п.1 и)
DTSTART;VALUE=DATE:20200601
DTEND;VALUE=DATE:20200602
UID:assignment-5606_10@kremlin.ru
DESCRIPTION:и) разработать и утвердить концеп
 цию создания комплексной информационно
 й системы мониторинга состояния окружаю
 щей среды на территории Российской Феде
 рации\, определив архитектуру указанной 
 системы мониторинга\, функциональные тр
 ебования к ней\, этапы её создания и ввод
 а в эксплуатацию\, а также исполнителей\, 
 ответственных за создание такой системы
 \, и необходимые объёмы финансирования.С
 рок – 1 июня 2020 г.\;
END:VEVENT
END:VCALENDAR
