BEGIN:VCALENDAR
VERSION:2.0
PRODID:-//kremlin.ru/Kremlin Calendar//RU
METHOD:PUBLISH
URL:http://kremlin.ru/acts/assignments/items/62571/ical-18.ics
BEGIN:VEVENT
SUMMARY:Пр-27\, п.5 б)
DTSTART;VALUE=DATE:20201001
DTEND;VALUE=DATE:20201002
UID:assignment-5554_18@kremlin.ru
DESCRIPTION:б) обобщить практику функциониров
 ания «павильонов здоровья»\, создаваемы
 х в целях раннего выявления заболеваний 
 и популяризации здорового образа жизни\,
  практику проведения профилактических м
 едицинских осмотров и диспансеризации н
 аселения\, а также разработать методичес
 кие рекомендации по распространению пол
 ожительного опыта этой работы с привлеч
 ением членов Всероссийского общественн
 ого движения добровольцев в сфере здрав
 оохранения «Волонтёры-медики» и молодёж
 ной общероссийской общественной органи
 зации «Российские Студенческие Отряды».
 Доклад – до 1 октября 2020 г.Ответственные:
  Скворцова В.И.\, Топилин М.А.\, высшие долж
 ностные лица (руководители высших испол
 нительных органов государственной влас
 ти) субъектов Российской Федерации.
END:VEVENT
END:VCALENDAR
