BEGIN:VCALENDAR
VERSION:2.0
PRODID:-//kremlin.ru/Kremlin Calendar//RU
METHOD:PUBLISH
URL:http://kremlin.ru/acts/assignments/items/62571/ical-17.ics
BEGIN:VEVENT
SUMMARY:Пр-27\, п.5 а)
DTSTART;VALUE=DATE:20200315
DTEND;VALUE=DATE:20200316
UID:assignment-5553_17@kremlin.ru
DESCRIPTION:5. Министерству здравоохранения Р
 оссийской Федерации\, Министерству труд
 а и социальной защиты Российской Федера
 ции совместно с органами исполнительной
  власти субъектов Российской Федерации:
 а) принять меры\, направленные на повышен
 ие эффективности взаимодействия и на со
 вершенствование механизмов сотрудничес
 тва профессионального медицинского соо
 бщества с социально ориентированными\, в
 олонтёрскими и другими общественными ор
 ганизациями\, осуществляющими деятельно
 сть в сфере охраны материнства и детства
 \, по вопросам планирования беременности
 \, профилактики искусственного прерыван
 ия беременности\, а также по вопросам ока
 зания социальной\, консультативной\, пси
 хологической и иной помощи женщинам\, в т
 ом числе оказавшимся в трудной жизненно
 й ситуации.Доклад – до 15 марта 2020 г.\;
END:VEVENT
END:VCALENDAR
